BEGIN:VCALENDAR
VERSION:2.0
PRODID:-//Lesefreunde Hürth e.V. - ECPv6.15.18//NONSGML v1.0//EN
CALSCALE:GREGORIAN
METHOD:PUBLISH
X-WR-CALNAME:Lesefreunde Hürth e.V.
X-ORIGINAL-URL:https://lesefreunde-huerth.de
X-WR-CALDESC:Veranstaltungen für Lesefreunde Hürth e.V.
REFRESH-INTERVAL;VALUE=DURATION:PT1H
X-Robots-Tag:noindex
X-PUBLISHED-TTL:PT1H
BEGIN:VTIMEZONE
TZID:Europe/Berlin
BEGIN:DAYLIGHT
TZOFFSETFROM:+0100
TZOFFSETTO:+0200
TZNAME:CEST
DTSTART:20250330T010000
END:DAYLIGHT
BEGIN:STANDARD
TZOFFSETFROM:+0200
TZOFFSETTO:+0100
TZNAME:CET
DTSTART:20251026T010000
END:STANDARD
BEGIN:DAYLIGHT
TZOFFSETFROM:+0100
TZOFFSETTO:+0200
TZNAME:CEST
DTSTART:20260329T010000
END:DAYLIGHT
BEGIN:STANDARD
TZOFFSETFROM:+0200
TZOFFSETTO:+0100
TZNAME:CET
DTSTART:20261025T010000
END:STANDARD
BEGIN:DAYLIGHT
TZOFFSETFROM:+0100
TZOFFSETTO:+0200
TZNAME:CEST
DTSTART:20270328T010000
END:DAYLIGHT
BEGIN:STANDARD
TZOFFSETFROM:+0200
TZOFFSETTO:+0100
TZNAME:CET
DTSTART:20271031T010000
END:STANDARD
END:VTIMEZONE
BEGIN:VEVENT
DTSTART;TZID=Europe/Berlin:20260711T110000
DTEND;TZID=Europe/Berlin:20260711T170000
DTSTAMP:20260422T105542
CREATED:20260123T113541Z
LAST-MODIFIED:20260123T113541Z
UID:2948-1783767600-1783789200@lesefreunde-huerth.de
SUMMARY:Litera-Tour mit Musik
DESCRIPTION:11.00 – 17.00 Uhr: Litera-Tour mit Musik: \nThema: Brunnen\, Mühlen und Bäche in Hürth \nRadtour vom Wendelinusbrunnen über Gleuel\, \nSielsdorf\, Hermülheim und Alt-Hürth bis zum Coltro in Hermülheim \nmit literarischen Texten und historischen Infos an einzelnen Stationen
URL:https://lesefreunde-huerth.de/event/litera-tour-mit-musik/
END:VEVENT
END:VCALENDAR